BEGIN:VCALENDAR
VERSION:2.0
PRODID:-//Daniel Miller - ECPv6.15.18//NONSGML v1.0//EN
CALSCALE:GREGORIAN
METHOD:PUBLISH
X-WR-CALNAME:Daniel Miller
X-ORIGINAL-URL:https://danielomiller.com
X-WR-CALDESC:Events for Daniel Miller
REFRESH-INTERVAL;VALUE=DURATION:PT1H
X-Robots-Tag:noindex
X-PUBLISHED-TTL:PT1H
BEGIN:VTIMEZONE
TZID:America/Chicago
BEGIN:DAYLIGHT
TZOFFSETFROM:-0600
TZOFFSETTO:-0500
TZNAME:CDT
DTSTART:20210314T080000
END:DAYLIGHT
BEGIN:STANDARD
TZOFFSETFROM:-0500
TZOFFSETTO:-0600
TZNAME:CST
DTSTART:20211107T070000
END:STANDARD
BEGIN:DAYLIGHT
TZOFFSETFROM:-0600
TZOFFSETTO:-0500
TZNAME:CDT
DTSTART:20220313T080000
END:DAYLIGHT
BEGIN:STANDARD
TZOFFSETFROM:-0500
TZOFFSETTO:-0600
TZNAME:CST
DTSTART:20221106T070000
END:STANDARD
BEGIN:DAYLIGHT
TZOFFSETFROM:-0600
TZOFFSETTO:-0500
TZNAME:CDT
DTSTART:20230312T080000
END:DAYLIGHT
BEGIN:STANDARD
TZOFFSETFROM:-0500
TZOFFSETTO:-0600
TZNAME:CST
DTSTART:20231105T070000
END:STANDARD
END:VTIMEZONE
BEGIN:VEVENT
DTSTART;TZID=America/Chicago:20220824T183000
DTEND;TZID=America/Chicago:20220824T203000
DTSTAMP:20260425T090652
CREATED:20220723T002430Z
LAST-MODIFIED:20220724T172430Z
UID:10000104-1661365800-1661373000@danielomiller.com
SUMMARY:Daniel Miller Speaking In Avinger
DESCRIPTION:Daniel Miller\, President of the Texas Nationalist Movement\, will be the Featured Speaker in Avinger. He will be presenting the causes of and the case for TEXIT.  The meeting begins a 6:30pm. Join fellow TNM members and supporters at 5D Cattle Company & Steakhouse in Avinger for an informative evening.  Please bring a guest. \nFor more information about this event\, please contact Daniel Rice\, daniel.rice@thetnm.org (800) 662-1836 x707
URL:https://danielomiller.com/dmcevent/daniel-miller-speaking-in-avinger-2/
LOCATION:5D Cattle Company & Steakhouse\, 8 N Main St\, Avinger\, Texas\, 75630\, Texas
CATEGORIES:Public Appearance
ATTACH;FMTTYPE=image/jpeg:https://danielomiller.com/wp-content/uploads/2022/04/dmc-map-featured-plain.jpg
ORGANIZER;CN="Cara Miller":MAILTO:cara.miller@thetnm.org
GEO:32.9005229;-94.5566501
X-APPLE-STRUCTURED-LOCATION;VALUE=URI;X-ADDRESS=5D Cattle Company & Steakhouse 8 N Main St Avinger Texas 75630 Texas;X-APPLE-RADIUS=500;X-TITLE=8 N Main St:geo:-94.5566501,32.9005229
END:VEVENT
END:VCALENDAR