BEGIN:VCALENDAR
VERSION:2.0
PRODID:-//Daniel Miller - ECPv6.15.18//NONSGML v1.0//EN
CALSCALE:GREGORIAN
METHOD:PUBLISH
X-WR-CALNAME:Daniel Miller
X-ORIGINAL-URL:https://danielomiller.com
X-WR-CALDESC:Events for Daniel Miller
REFRESH-INTERVAL;VALUE=DURATION:PT1H
X-Robots-Tag:noindex
X-PUBLISHED-TTL:PT1H
BEGIN:VTIMEZONE
TZID:America/Chicago
BEGIN:DAYLIGHT
TZOFFSETFROM:-0600
TZOFFSETTO:-0500
TZNAME:CDT
DTSTART:20210314T080000
END:DAYLIGHT
BEGIN:STANDARD
TZOFFSETFROM:-0500
TZOFFSETTO:-0600
TZNAME:CST
DTSTART:20211107T070000
END:STANDARD
BEGIN:DAYLIGHT
TZOFFSETFROM:-0600
TZOFFSETTO:-0500
TZNAME:CDT
DTSTART:20220313T080000
END:DAYLIGHT
BEGIN:STANDARD
TZOFFSETFROM:-0500
TZOFFSETTO:-0600
TZNAME:CST
DTSTART:20221106T070000
END:STANDARD
BEGIN:DAYLIGHT
TZOFFSETFROM:-0600
TZOFFSETTO:-0500
TZNAME:CDT
DTSTART:20230312T080000
END:DAYLIGHT
BEGIN:STANDARD
TZOFFSETFROM:-0500
TZOFFSETTO:-0600
TZNAME:CST
DTSTART:20231105T070000
END:STANDARD
END:VTIMEZONE
BEGIN:VEVENT
DTSTART;TZID=America/Chicago:20220221T180000
DTEND;TZID=America/Chicago:20220221T200000
DTSTAMP:20260422T030707
CREATED:20220216T183104Z
LAST-MODIFIED:20220216T183104Z
UID:10000115-1645466400-1645473600@danielomiller.com
SUMMARY:Daniel Miller Speaking In Avinger
DESCRIPTION:Daniel Miller will be speaking in Avinger at Five D Cattle Company Steakhouse.  There will be a Meet & Greet from 6:00-7:00pm with appetizers and a cash bar.  Daniel will begin speaking at 7pm and will take questions immediately following.  This is a fundraiser but free to the public and appetizers will be provided by The Daniel Miller Campaign.  Please join fellow supporters at 6:00 pm. Feel free to bring guests to learn about our campaign to take Texas back.
URL:https://danielomiller.com/dmcevent/daniel-miller-speaking-in-avinger/
LOCATION:Five D Cattle Company\, 8 N Main St\, Avinger\, Texas\, 75630\, Texas
CATEGORIES:Public Appearance
ATTACH;FMTTYPE=image/png:https://danielomiller.com/wp-content/uploads/2021/09/miller-capitol.png
GEO:32.9005229;-94.5566501
X-APPLE-STRUCTURED-LOCATION;VALUE=URI;X-ADDRESS=Five D Cattle Company 8 N Main St Avinger Texas 75630 Texas;X-APPLE-RADIUS=500;X-TITLE=8 N Main St:geo:-94.5566501,32.9005229
END:VEVENT
END:VCALENDAR