BEGIN:VCALENDAR
VERSION:2.0
PRODID:-//Daniel Miller - ECPv6.15.18//NONSGML v1.0//EN
CALSCALE:GREGORIAN
METHOD:PUBLISH
X-WR-CALNAME:Daniel Miller
X-ORIGINAL-URL:https://danielomiller.com
X-WR-CALDESC:Events for Daniel Miller
REFRESH-INTERVAL;VALUE=DURATION:PT1H
X-Robots-Tag:noindex
X-PUBLISHED-TTL:PT1H
BEGIN:VTIMEZONE
TZID:America/Chicago
BEGIN:DAYLIGHT
TZOFFSETFROM:-0600
TZOFFSETTO:-0500
TZNAME:CDT
DTSTART:20210314T080000
END:DAYLIGHT
BEGIN:STANDARD
TZOFFSETFROM:-0500
TZOFFSETTO:-0600
TZNAME:CST
DTSTART:20211107T070000
END:STANDARD
BEGIN:DAYLIGHT
TZOFFSETFROM:-0600
TZOFFSETTO:-0500
TZNAME:CDT
DTSTART:20220313T080000
END:DAYLIGHT
BEGIN:STANDARD
TZOFFSETFROM:-0500
TZOFFSETTO:-0600
TZNAME:CST
DTSTART:20221106T070000
END:STANDARD
BEGIN:DAYLIGHT
TZOFFSETFROM:-0600
TZOFFSETTO:-0500
TZNAME:CDT
DTSTART:20230312T080000
END:DAYLIGHT
BEGIN:STANDARD
TZOFFSETFROM:-0500
TZOFFSETTO:-0600
TZNAME:CST
DTSTART:20231105T070000
END:STANDARD
END:VTIMEZONE
BEGIN:VEVENT
DTSTART;TZID=America/Chicago:20220212T130000
DTEND;TZID=America/Chicago:20220212T180000
DTSTAMP:20260421T195803
CREATED:20220202T175241Z
LAST-MODIFIED:20220202T175241Z
UID:10000004-1644670800-1644688800@danielomiller.com
SUMMARY:Daniel Miller Speaking In Harlingen
DESCRIPTION:Daniel Miller will be participating in a Candidate Forum in Harlingen for the Cameron County Republican Women and Cameron County Conservatives event. Join fellow supporters at 1:00 pm. Feel free to bring guests to learn about our campaign to take Texas back.
URL:https://danielomiller.com/dmcevent/daniel-miller-speaking-in-harlingen/
LOCATION:Harlingen Convention Center\, 701 Harlingen Heights Dr\, Harlingen\, Texas\, 78552\, Texas
CATEGORIES:Public Appearance
ATTACH;FMTTYPE=image/png:https://danielomiller.com/wp-content/uploads/2021/10/dm-vid-logo.png
GEO:26.1991099;-97.7238134
X-APPLE-STRUCTURED-LOCATION;VALUE=URI;X-ADDRESS=Harlingen Convention Center 701 Harlingen Heights Dr Harlingen Texas 78552 Texas;X-APPLE-RADIUS=500;X-TITLE=701 Harlingen Heights Dr:geo:-97.7238134,26.1991099
END:VEVENT
END:VCALENDAR