BEGIN:VCALENDAR
VERSION:2.0
PRODID:-//Daniel Miller - ECPv6.15.18//NONSGML v1.0//EN
CALSCALE:GREGORIAN
METHOD:PUBLISH
X-WR-CALNAME:Daniel Miller
X-ORIGINAL-URL:https://danielomiller.com
X-WR-CALDESC:Events for Daniel Miller
REFRESH-INTERVAL;VALUE=DURATION:PT1H
X-Robots-Tag:noindex
X-PUBLISHED-TTL:PT1H
BEGIN:VTIMEZONE
TZID:America/Chicago
BEGIN:DAYLIGHT
TZOFFSETFROM:-0600
TZOFFSETTO:-0500
TZNAME:CDT
DTSTART:20210314T080000
END:DAYLIGHT
BEGIN:STANDARD
TZOFFSETFROM:-0500
TZOFFSETTO:-0600
TZNAME:CST
DTSTART:20211107T070000
END:STANDARD
BEGIN:DAYLIGHT
TZOFFSETFROM:-0600
TZOFFSETTO:-0500
TZNAME:CDT
DTSTART:20220313T080000
END:DAYLIGHT
BEGIN:STANDARD
TZOFFSETFROM:-0500
TZOFFSETTO:-0600
TZNAME:CST
DTSTART:20221106T070000
END:STANDARD
BEGIN:DAYLIGHT
TZOFFSETFROM:-0600
TZOFFSETTO:-0500
TZNAME:CDT
DTSTART:20230312T080000
END:DAYLIGHT
BEGIN:STANDARD
TZOFFSETFROM:-0500
TZOFFSETTO:-0600
TZNAME:CST
DTSTART:20231105T070000
END:STANDARD
END:VTIMEZONE
BEGIN:VEVENT
DTSTART;TZID=America/Chicago:20220809T113000
DTEND;TZID=America/Chicago:20220809T130000
DTSTAMP:20260425T154746
CREATED:20220404T182933Z
LAST-MODIFIED:20220601T004522Z
UID:10000108-1660044600-1660050000@danielomiller.com
SUMMARY:Daniel Miller Speaking In Houston
DESCRIPTION:Daniel Miller\, President of the Texas Nationalist Movement\, will be the Featured speaker at the The Executive Council – Houston meeting. He will be presenting the causes of and the case for TEXIT.  The meeting begins a 11:30 am. Join fellow TNM members and supporters at Lakeside Country Club for an informative evening.  Please bring a guest.
URL:https://danielomiller.com/dmcevent/daniel-miller-speaking-in-houston-2/
LOCATION:Lakeside Country Club\, 100 Wilcrest Drive\, Houston\, Texas\, 77082\, Texas
CATEGORIES:Public Appearance
ATTACH;FMTTYPE=image/png:https://danielomiller.com/wp-content/uploads/2019/10/dm-facebook-share.png
GEO:29.6655728;-95.5691988
X-APPLE-STRUCTURED-LOCATION;VALUE=URI;X-ADDRESS=Lakeside Country Club 100 Wilcrest Drive Houston Texas 77082 Texas;X-APPLE-RADIUS=500;X-TITLE=100 Wilcrest Drive:geo:-95.5691988,29.6655728
END:VEVENT
END:VCALENDAR