BEGIN:VCALENDAR
VERSION:2.0
PRODID:-//Daniel Miller - ECPv6.15.18//NONSGML v1.0//EN
CALSCALE:GREGORIAN
METHOD:PUBLISH
X-WR-CALNAME:Daniel Miller
X-ORIGINAL-URL:https://danielomiller.com
X-WR-CALDESC:Events for Daniel Miller
REFRESH-INTERVAL;VALUE=DURATION:PT1H
X-Robots-Tag:noindex
X-PUBLISHED-TTL:PT1H
BEGIN:VTIMEZONE
TZID:America/Chicago
BEGIN:DAYLIGHT
TZOFFSETFROM:-0600
TZOFFSETTO:-0500
TZNAME:CDT
DTSTART:20210314T080000
END:DAYLIGHT
BEGIN:STANDARD
TZOFFSETFROM:-0500
TZOFFSETTO:-0600
TZNAME:CST
DTSTART:20211107T070000
END:STANDARD
BEGIN:DAYLIGHT
TZOFFSETFROM:-0600
TZOFFSETTO:-0500
TZNAME:CDT
DTSTART:20220313T080000
END:DAYLIGHT
BEGIN:STANDARD
TZOFFSETFROM:-0500
TZOFFSETTO:-0600
TZNAME:CST
DTSTART:20221106T070000
END:STANDARD
BEGIN:DAYLIGHT
TZOFFSETFROM:-0600
TZOFFSETTO:-0500
TZNAME:CDT
DTSTART:20230312T080000
END:DAYLIGHT
BEGIN:STANDARD
TZOFFSETFROM:-0500
TZOFFSETTO:-0600
TZNAME:CST
DTSTART:20231105T070000
END:STANDARD
END:VTIMEZONE
BEGIN:VEVENT
DTSTART;TZID=America/Chicago:20220302T170000
DTEND;TZID=America/Chicago:20220302T220000
DTSTAMP:20260424T204644
CREATED:20220216T213713Z
LAST-MODIFIED:20220216T213713Z
UID:10000113-1646240400-1646258400@danielomiller.com
SUMMARY:Daniel Miller in Houston At HLSR
DESCRIPTION:Daniel Miller will be attending TNM Day for Texas Independence Day at the Houston Livestock Show and Rodeo! TNM will also be acknowledging all the hard work of volunteers and the results of the primary election. This will be a relaxed social celebration with an update to all attendees at 7:30 pm.  A livestream will be available of the update for those who cannot attend in person (if cell data service permits). TNM has a private tent\, the Bluebonnet\, at the Champion Wine Garden inside the main grounds. You will need to purchase admission to the main HLSR to get in\, but there is no need to purchase a rodeo / concert ticket to access where we will be. Parking fees are also additional.
URL:https://danielomiller.com/dmcevent/daniel-miller-in-houston-at-hlsr/
LOCATION:NRG Center\, 3 NRG Park\, Houston\, Texas\, 77054\, Texas
CATEGORIES:Featured Events
ATTACH;FMTTYPE=image/jpeg:https://danielomiller.com/wp-content/uploads/2021/09/miller-indy-flag-featured.jpg
GEO:29.6848561;-95.412273
X-APPLE-STRUCTURED-LOCATION;VALUE=URI;X-ADDRESS=NRG Center 3 NRG Park Houston Texas 77054 Texas;X-APPLE-RADIUS=500;X-TITLE=3 NRG Park:geo:-95.412273,29.6848561
END:VEVENT
END:VCALENDAR